0.2500000000
0.0000000000
0.0000000000
-0.2500000000
493198.3750000000
382058.3750000000
