0.2500000000
0.0000000000
0.0000000000
-0.2500000000
493283.1250000000
384334.8750000000
