0.2500000000
0.0000000000
0.0000000000
-0.2500000000
489842.8750000000
382183.3750000000
