0.2500000000
0.0000000000
0.0000000000
-0.2500000000
489927.8750000000
384459.8750000000
