0.2500000000
0.0000000000
0.0000000000
-0.2500000000
503432.3750000000
386239.6250000000
