0.2500000000
0.0000000000
0.0000000000
-0.2500000000
503516.1250000000
388516.3750000000
