0.2500000000
0.0000000000
0.0000000000
-0.2500000000
500077.6250000000
386363.1250000000
