0.2500000000
0.0000000000
0.0000000000
-0.2500000000
500161.3750000000
388639.6250000000
