0.2500000000
0.0000000000
0.0000000000
-0.2500000000
496722.6250000000
386487.1250000000
