0.2500000000
0.0000000000
0.0000000000
-0.2500000000
496806.8750000000
388763.6250000000
