0.2500000000
0.0000000000
0.0000000000
-0.2500000000
493367.6250000000
386611.3750000000
