0.2500000000
0.0000000000
0.0000000000
-0.2500000000
493452.3750000000
388887.8750000000
