0.2500000000
0.0000000000
0.0000000000
-0.2500000000
490012.8750000000
386736.3750000000
