0.2500000000
0.0000000000
0.0000000000
-0.2500000000
490097.8750000000
389012.8750000000
