0.2500000000
0.0000000000
0.0000000000
-0.2500000000
503599.6250000000
390792.8750000000
