0.2500000000
0.0000000000
0.0000000000
-0.2500000000
503683.1250000000
393069.3750000000
