0.2500000000
0.0000000000
0.0000000000
-0.2500000000
500245.3750000000
390916.3750000000
