0.2500000000
0.0000000000
0.0000000000
-0.2500000000
500329.3750000000
393192.8750000000
