0.2500000000
0.0000000000
0.0000000000
-0.2500000000
496891.1250000000
391040.1250000000
