0.2500000000
0.0000000000
0.0000000000
-0.2500000000
496975.3750000000
393316.6250000000
