0.2500000000
0.0000000000
0.0000000000
-0.2500000000
493536.8750000000
391164.6250000000
