0.2500000000
0.0000000000
0.0000000000
-0.2500000000
493621.6250000000
393441.1250000000
