0.2500000000
0.0000000000
0.0000000000
-0.2500000000
490182.6250000000
391289.3750000000
