0.2500000000
0.0000000000
0.0000000000
-0.2500000000
490267.6250000000
393565.8750000000
