0.2500000000
0.0000000000
0.0000000000
-0.2500000000
503766.8750000000
395346.1250000000
