0.2500000000
0.0000000000
0.0000000000
-0.2500000000
503850.3750000000
397622.6250000000
