0.2500000000
0.0000000000
0.0000000000
-0.2500000000
500413.1250000000
395469.3750000000
