0.2500000000
0.0000000000
0.0000000000
-0.2500000000
500497.1250000000
397745.8750000000
