0.2500000000
0.0000000000
0.0000000000
-0.2500000000
497059.6250000000
395593.1250000000
