0.2500000000
0.0000000000
0.0000000000
-0.2500000000
497143.8750000000
397869.6250000000
