0.2500000000
0.0000000000
0.0000000000
-0.2500000000
493706.1250000000
395717.6250000000
