0.2500000000
0.0000000000
0.0000000000
-0.2500000000
493790.6250000000
397994.1250000000
