0.2500000000
0.0000000000
0.0000000000
-0.2500000000
490352.6250000000
395842.3750000000
