0.2500000000
0.0000000000
0.0000000000
-0.2500000000
490437.6250000000
398118.8750000000
