0.2500000000
0.0000000000
0.0000000000
-0.2500000000
503933.8750000000
399899.1250000000
