0.2500000000
0.0000000000
0.0000000000
-0.2500000000
500581.1250000000
400022.3750000000
