0.2500000000
0.0000000000
0.0000000000
-0.2500000000
500664.8750000000
402298.8750000000
