0.2500000000
0.0000000000
0.0000000000
-0.2500000000
497228.1250000000
400146.3750000000
