0.2500000000
0.0000000000
0.0000000000
-0.2500000000
497312.3750000000
402422.8750000000
