0.2500000000
0.0000000000
0.0000000000
-0.2500000000
493875.3750000000
400270.6250000000
