0.2500000000
0.0000000000
0.0000000000
-0.2500000000
493959.8750000000
402547.1250000000
