0.2500000000
0.0000000000
0.0000000000
-0.2500000000
490522.6250000000
400395.3750000000
