0.2500000000
0.0000000000
0.0000000000
-0.2500000000
490607.3750000000
402671.8750000000
