0.2500000000
0.0000000000
0.0000000000
-0.2500000000
486487.3750000000
382308.8750000000
