0.2500000000
0.0000000000
0.0000000000
-0.2500000000
486572.6250000000
384585.3750000000
