0.2500000000
0.0000000000
0.0000000000
-0.2500000000
483131.8750000000
382434.8750000000
