0.2500000000
0.0000000000
0.0000000000
-0.2500000000
483217.3750000000
384711.3750000000
