0.2500000000
0.0000000000
0.0000000000
-0.2500000000
479776.3750000000
382561.3750000000
