0.2500000000
0.0000000000
0.0000000000
-0.2500000000
479862.3750000000
384837.6250000000
