0.2500000000
0.0000000000
0.0000000000
-0.2500000000
476420.8750000000
382688.3750000000
